BEGIN:VCALENDAR
CALSCALE:GREGORIAN
VERSION:2.0
BEGIN:VTIMEZONE
TZID:Europe/Vienna
BEGIN:DAYLIGHT
DTSTART:19810329T020000
RRULE:FREQ=YEARLY;BYMONTH=3;BYDAY=-1SU
TZNAME:MESZ
TZOFFSETFROM:+0100
TZOFFSETTO:+0200
END:DAYLIGHT
BEGIN:STANDARD
DTSTART:19961027T030000
RRULE:FREQ=YEARLY;BYMONTH=10;BYDAY=-1SU
TZNAME:MEZ
TZOFFSETFROM:+0200
TZOFFSETTO:+0100
END:STANDARD
END:VTIMEZONE
BEGIN:VEVENT
CREATED:20231221T170959Z
DESCRIPTION:Die Formation classicalpin zeichnet sich durch eine ganz besondere Besetzung aus und ist auf diese Weise noch nirgends zu finden.Ein klassisches Ensemble mit Flöte, Violine, Viola, Violoncello und Harfe- dem Kammerensemble der Volksoper Wien- vereinen sich mit einem Volksmusikensemble, bestehend aus Harmonika, Hackbrett, Gitarre und Kontrabass.Das Kammerensemble der Volksoper Wien besteht teilweise aus Musikerinnen aus dem Orchester der Volksoper Wien:der Konzertmeisterin Anne Harvey- Nagl (Australien), der Soloharfinistin Mariagrazia Pistan- Zand (Italien), der Soloflötistin Renate Linortner (Österreich)- die beiden Musikerinnen Lena Fankhauser Campregher (Canada) Viola und Alison Frilongos (Australien) Violoncello sind freischaffende Musikerinnen in Wien.Die Kompositionen für classicalpin stammen von Sigi Lemmerer, dem virtuosen Hackbrettspieler, dessen Freigeist sich nicht nur am Papier sondern auch während seines Hackbrettspiels bemerkbar macht.Mit seinen Volksmusikkollegen Franz Lemmerer (seinem Bruder) und Volkmar Völs bestreitet er zig Volksmusikveranstaltungen im Jahr- diese mit einer Individualitat und Originalität, die seinesgleichen sucht.Karin Linortner, die als Sprecherin in Ö1 tätig ist, gesellt sich als Gitarristin dazu und das Ensemble classicalpin ist somit komplett und daher auch einer grossen Besetzungsvielfalt und Flexibilität ausgesetzt.Renate Linortner die Gründerin und Leiterin des Ensembles kannte Sigi schon aus der Schulzeit und bei einem Konzert 2010 in Bad Aussee, bei dem dass Kammerensemble der Volksoper Wien und das Lemmerer Trio unabhängig voneinander auf der Bühne standen, gab es die Idee ein gemeinsamesProjekt zu starten.Das Ensemble classicalpin spielt Konzerte in ganz Österreich- erwähnt sei ein Konzert an der Volksoper Wien mit Robert Meyer, dem, Direktor der Volksoper Wien und der Auftritt bei Pixner‘s Backstage u.a.Es ist im Moment eine Zusammenarbeit mit Sandra Pires im Gange und somit ein neues Programm in Arbeit und Entwicklung.Die Musik ist ein Mix aus Klassik, Volksmusik, irischer Musik, Filmusik, Countrymusik, manchmal hört man einen Hauch Paris, ein andermal Rock oder Balladen- das Publikum dankte es uns immer mit „standingovations“, was uns immer dazu bewogen hat, weiterzumachen obwohl wir weder mit Manager noch grosser Umtriebigkeit in eigener Konzertplanung agiert haben, gibt esKonzertanfragen, worüber wir uns sehr freuen.
DTEND;TZID=Europe/Vienna:20211002T235900
DTSTAMP:20231221T171224Z
DTSTART;TZID=Europe/Vienna:20211002T180000
LAST-MODIFIED:20231221T171210Z
LOCATION:[ku:L] Kunst- & Kulturhaus Öblarn\n8960 Öblarn 26\, Austria
SEQUENCE:0
STATUS:CONFIRMED
SUMMARY:classic alpin
TRANSP:OPAQUE
UID:95378F1D-9035-46E4-B853-04D9DBE28066
URL;VALUE=URI:https://www.kultur.st/events-archiv/classic-alpin
X-APPLE-CREATOR-IDENTITY:com.apple.calendar
X-APPLE-CREATOR-TEAM-IDENTITY:0000000000
X-APPLE-STRUCTURED-LOCATION;VALUE=URI;X-APPLE-MAPKIT-HANDLE=CAES4gEI2TIa
 Egl0CYfe4rpHQBHLh/sjZ/wrQCJnCgvDlnN0ZXJyZWljaBICQVQaClN0ZWllcm1hcmsqDUJl
 emlyayBMaWV6ZW4yB8OWYmxhcm46BDg5NjBCB8OWYmxhcm5SB8OWYmxhcm5aAjI2YgrDlmJs
 YXJuIDI2igEHw5ZibGFybioKw5ZibGFybiAyNjIKw5ZibGFybiAyNjIMODk2MCDDlmJsYXJu
 MgvDlnN0ZXJyZWljaDg5QABQAVonCiUSEgl0CYfe4rpHQBHLh/sjZ/wrQBjZMiDHj4Po89yn
 vJIBkAMB;X-APPLE-RADIUS=70.58735946348322;X-APPLE-REFERENCEFRAME=1;X-TIT
 LE="[ku:L] Kunst- & Kulturhaus Öblarn\n8960 Öblarn 26, Austria":geo:47.4
 60048,13.992974
BEGIN:VALARM
ACTION:DISPLAY
DESCRIPTION:This is an event reminder
TRIGGER:-P1D
UID:A4449477-3C11-44D3-AE1D-16287D87CEFF
X-WR-ALARMUID:A4449477-3C11-44D3-AE1D-16287D87CEFF
END:VALARM
BEGIN:VALARM
ACTION:DISPLAY
DESCRIPTION:This is an event reminder
TRIGGER:-PT1H
UID:F548110B-4C92-41EC-A1E4-AAB7E38B9653
X-WR-ALARMUID:F548110B-4C92-41EC-A1E4-AAB7E38B9653
END:VALARM
END:VEVENT
END:VCALENDAR
